BEGIN:VCALENDAR
VERSION:2.0
PRODID:-//NCEN - ECPv6.15.17.1//NONSGML v1.0//EN
CALSCALE:GREGORIAN
METHOD:PUBLISH
X-WR-CALNAME:NCEN
X-ORIGINAL-URL:https://ncevaluators.org
X-WR-CALDESC:Events for NCEN
REFRESH-INTERVAL;VALUE=DURATION:PT1H
X-Robots-Tag:noindex
X-PUBLISHED-TTL:PT1H
BEGIN:VTIMEZONE
TZID:America/New_York
BEGIN:DAYLIGHT
TZOFFSETFROM:-0500
TZOFFSETTO:-0400
TZNAME:EDT
DTSTART:20210314T070000
END:DAYLIGHT
BEGIN:STANDARD
TZOFFSETFROM:-0400
TZOFFSETTO:-0500
TZNAME:EST
DTSTART:20211107T060000
END:STANDARD
BEGIN:DAYLIGHT
TZOFFSETFROM:-0500
TZOFFSETTO:-0400
TZNAME:EDT
DTSTART:20220313T070000
END:DAYLIGHT
BEGIN:STANDARD
TZOFFSETFROM:-0400
TZOFFSETTO:-0500
TZNAME:EST
DTSTART:20221106T060000
END:STANDARD
BEGIN:DAYLIGHT
TZOFFSETFROM:-0500
TZOFFSETTO:-0400
TZNAME:EDT
DTSTART:20230312T070000
END:DAYLIGHT
BEGIN:STANDARD
TZOFFSETFROM:-0400
TZOFFSETTO:-0500
TZNAME:EST
DTSTART:20231105T060000
END:STANDARD
END:VTIMEZONE
BEGIN:VEVENT
DTSTART;TZID=America/New_York:20221019T150000
DTEND;TZID=America/New_York:20221019T163000
DTSTAMP:20260422T105829
CREATED:20220928T154124Z
LAST-MODIFIED:20220928T154124Z
UID:611-1666191600-1666197000@ncevaluators.org
SUMMARY:The Equitable Evaluation Framework-Seattle Evaluation Association (virtual)
DESCRIPTION:This event\, organized by the Seattle Evaluation Association\, is free to attend. Register to attend here: https://evalseattle.org/event-4980949 \nJoin us for our annual business meeting and learn more about the Equitable Evaluation Framework.  \nAs philanthropy evolves and moves to centering equity\, assessment\, research\, learning\, and evaluation strategies must also evolve. What is the Equitable Evaluation Framework (EEF) and how do we engage with the EEF? Join your colleagues to learn more about how the Equitable Evaluation Initiative is seeding and growing a field of EEF practitioners to shift the paradigm. \nMarcia Coné\, Director of Practice Engagement and Evolution at the EEF\, leads the Equipping for Transformation cadré of support to Practice Partners. Her focus is on building a field of evaluation\, learning\, and research practitioners who advance the Equitable Evaluation Framework by expanding definitions of rigor\, validity\, and embracing 21st century complexity. \nIn the summer of 2020 Marcia launched the Equipping for Transformation Practice Partner Platform\, a robust ecosystem of organizations and individuals in multiple spaces and modalities design to help partners interrogate and evolve their evaluation practices\, promote shared inquiry and learning\, reflect and innovate\, catalyze cross-sector thought leadership\, and contribute to field-building. \nFor nearly three decades\, Marcia has worked in partnership with NGOs\, Philanthropy\, PSOs\, and Grassroots and Grasstops leaders to shift the paradigm and create cultures where intersectional equity is at the center. She brings a depth and breadth of experience that fuels her passion for moving the philanthropic sector away from a traditional framework towards bold philanthropy that is a catalyst for change. \nFollowing the keynote address\, the Seattle Evaluation Association will review the last year at the association and discuss plans for the year to come. 
URL:https://ncevaluators.org/event/the-equitable-evaluation-framework-seattle-evaluation-association-virtual/
CATEGORIES:Non-NCEN Event
END:VEVENT
END:VCALENDAR