BEGIN:VCALENDAR
VERSION:2.0
PRODID:-//NCEN - ECPv6.15.17.1//NONSGML v1.0//EN
CALSCALE:GREGORIAN
METHOD:PUBLISH
X-WR-CALNAME:NCEN
X-ORIGINAL-URL:https://ncevaluators.org
X-WR-CALDESC:Events for NCEN
REFRESH-INTERVAL;VALUE=DURATION:PT1H
X-Robots-Tag:noindex
X-PUBLISHED-TTL:PT1H
BEGIN:VTIMEZONE
TZID:America/New_York
BEGIN:DAYLIGHT
TZOFFSETFROM:-0500
TZOFFSETTO:-0400
TZNAME:EDT
DTSTART:20220313T070000
END:DAYLIGHT
BEGIN:STANDARD
TZOFFSETFROM:-0400
TZOFFSETTO:-0500
TZNAME:EST
DTSTART:20221106T060000
END:STANDARD
BEGIN:DAYLIGHT
TZOFFSETFROM:-0500
TZOFFSETTO:-0400
TZNAME:EDT
DTSTART:20230312T070000
END:DAYLIGHT
BEGIN:STANDARD
TZOFFSETFROM:-0400
TZOFFSETTO:-0500
TZNAME:EST
DTSTART:20231105T060000
END:STANDARD
BEGIN:DAYLIGHT
TZOFFSETFROM:-0500
TZOFFSETTO:-0400
TZNAME:EDT
DTSTART:20240310T070000
END:DAYLIGHT
BEGIN:STANDARD
TZOFFSETFROM:-0400
TZOFFSETTO:-0500
TZNAME:EST
DTSTART:20241103T060000
END:STANDARD
END:VTIMEZONE
BEGIN:VEVENT
DTSTART;TZID=America/New_York:20230120T130000
DTEND;TZID=America/New_York:20230120T150000
DTSTAMP:20260422T064059
CREATED:20230106T172948Z
LAST-MODIFIED:20230109T165044Z
UID:699-1674219600-1674226800@ncevaluators.org
SUMMARY:Designing Interactive Data Dashboards with Excel and Google: Beginner Level
DESCRIPTION:The Indiana Evaluation Association will be offering two professional development workshops in January 2023\, and affiliates are welcome to join! \nCreating dynamic dashboards in Excel and Google is a fantastic and cost-effective way to view important data with minimal construction time. This workshop takes you through all you need to know to design interactive dashboards from start to finish in Excel and Google Sheets. Shelly and Tom will provide you with practical\, hands-on\, step-by-step instructions to turn your static data table into a dynamic dashboard that will “wow” your stakeholders. We will demonstrate how to use Pivot Tables\, PivotCharts\, and Slicers to create well-designed dashboards that allow your stakeholders to slice-and-dice the data in seconds. You will leave the workshop with clear steps that you can immediately implement to create stunning dashboards that are pliable\, dynamic  and easy to reproduce. \nYou will learn: \n\nHow to use PivotTables\, PivotCharts\, and Slicers to create interactive dashboards\nQuick visualization tips and tricks to customize your dashboards for stakeholders\nHow to secure your dashboard using built-in protection features\nDifferent chart types to display data in the most meaningful way\n\nPrerequisites: \n\nBasic knowledge of Excel (e.g.\, charts\, basic formulas)\nPivotTable knowledge is helpful\, but not necessary to take this workshop\n\nThe link to register can be found HERE. NCEN members can register for free with the code provided via the listserv.
URL:https://ncevaluators.org/event/designing-interactive-data-dashboards-with-excel-and-google-beginner-level/
CATEGORIES:Non-NCEN Event
END:VEVENT
END:VCALENDAR