BEGIN:VCALENDAR
VERSION:2.0
PRODID:-//NCEN - ECPv6.15.17.1//NONSGML v1.0//EN
CALSCALE:GREGORIAN
METHOD:PUBLISH
X-ORIGINAL-URL:https://ncevaluators.org
X-WR-CALDESC:Events for NCEN
REFRESH-INTERVAL;VALUE=DURATION:PT1H
X-Robots-Tag:noindex
X-PUBLISHED-TTL:PT1H
BEGIN:VTIMEZONE
TZID:America/New_York
BEGIN:DAYLIGHT
TZOFFSETFROM:-0500
TZOFFSETTO:-0400
TZNAME:EDT
DTSTART:20220313T070000
END:DAYLIGHT
BEGIN:STANDARD
TZOFFSETFROM:-0400
TZOFFSETTO:-0500
TZNAME:EST
DTSTART:20221106T060000
END:STANDARD
BEGIN:DAYLIGHT
TZOFFSETFROM:-0500
TZOFFSETTO:-0400
TZNAME:EDT
DTSTART:20230312T070000
END:DAYLIGHT
BEGIN:STANDARD
TZOFFSETFROM:-0400
TZOFFSETTO:-0500
TZNAME:EST
DTSTART:20231105T060000
END:STANDARD
BEGIN:DAYLIGHT
TZOFFSETFROM:-0500
TZOFFSETTO:-0400
TZNAME:EDT
DTSTART:20240310T070000
END:DAYLIGHT
BEGIN:STANDARD
TZOFFSETFROM:-0400
TZOFFSETTO:-0500
TZNAME:EST
DTSTART:20241103T060000
END:STANDARD
END:VTIMEZONE
BEGIN:VEVENT
DTSTART;TZID=America/New_York:20230127T130000
DTEND;TZID=America/New_York:20230127T150000
DTSTAMP:20260422T064210
CREATED:20230106T173400Z
LAST-MODIFIED:20230109T165015Z
UID:701-1674824400-1674831600@ncevaluators.org
SUMMARY:Designing Interactive Data Dashboards with Excel and Google: Advanced Level
DESCRIPTION:This is the second of two professional development workshops being offered by The Indiana Evaluation Association in January 2023\, and affiliates are welcome to join! \nThis advanced workshop will take your dashboards to the next level. In this hands-on\, step-by-step workshop\, Shelly and Tom will provide best practices in dashboard design to make your dashboards really pop. They will also teach you how to incorporate inferential statistics (e.g.\, t-tests) into your dashboards that update and as you slice and- dice your data. Throughout the course\, you will learn advanced features in Excel to maximize the impact of your dashboards. As part of your participation in this course\, you will have access to 6 sample interactive dashboards in Excel that you can use in your own practice. Excel features to maximize to have the chance to learn some  “smart” visualizations that your clients will be asking “how’d you do that?”. \nYou will learn: \n\nBest practices in designing your dashboards to maximize impact\nFour effective dashboard layout techniques\nAdvanced features in Excel to customize your dashboards for various stakeholders\nHow to integrate inferential statistics (e.g.\, t-tests) into your dashboards\n\nPrerequisites: \n\nKnowledge of both PivotTables and Slicers in Excel is required (Consider taking the  beginner workshop in advance to get caught up!)\n\nThe link to register can be found HERE. NCEN members can register for free with the code provided via the listserv.
URL:https://ncevaluators.org/event/designing-interactive-data-dashboards-with-excel-and-google-advanced-level/
CATEGORIES:Non-NCEN Event
END:VEVENT
END:VCALENDAR