BEGIN:VCALENDAR
VERSION:2.0
PRODID:-//NCEN - ECPv6.15.17.1//NONSGML v1.0//EN
CALSCALE:GREGORIAN
METHOD:PUBLISH
X-ORIGINAL-URL:https://ncevaluators.org
X-WR-CALDESC:Events for NCEN
REFRESH-INTERVAL;VALUE=DURATION:PT1H
X-Robots-Tag:noindex
X-PUBLISHED-TTL:PT1H
BEGIN:VTIMEZONE
TZID:America/New_York
BEGIN:DAYLIGHT
TZOFFSETFROM:-0500
TZOFFSETTO:-0400
TZNAME:EDT
DTSTART:20220313T070000
END:DAYLIGHT
BEGIN:STANDARD
TZOFFSETFROM:-0400
TZOFFSETTO:-0500
TZNAME:EST
DTSTART:20221106T060000
END:STANDARD
BEGIN:DAYLIGHT
TZOFFSETFROM:-0500
TZOFFSETTO:-0400
TZNAME:EDT
DTSTART:20230312T070000
END:DAYLIGHT
BEGIN:STANDARD
TZOFFSETFROM:-0400
TZOFFSETTO:-0500
TZNAME:EST
DTSTART:20231105T060000
END:STANDARD
BEGIN:DAYLIGHT
TZOFFSETFROM:-0500
TZOFFSETTO:-0400
TZNAME:EDT
DTSTART:20240310T070000
END:DAYLIGHT
BEGIN:STANDARD
TZOFFSETFROM:-0400
TZOFFSETTO:-0500
TZNAME:EST
DTSTART:20241103T060000
END:STANDARD
END:VTIMEZONE
BEGIN:VEVENT
DTSTART;TZID=America/New_York:20230428T113000
DTEND;TZID=America/New_York:20230428T130000
DTSTAMP:20260422T020902
CREATED:20230413T174554Z
LAST-MODIFIED:20230413T174554Z
UID:722-1682681400-1682686800@ncevaluators.org
SUMMARY:ChatGPT and Artificial Intelligence - Questions and Implications for Evaluators
DESCRIPTION:This event is sponsored by the Indiana Evaluators Association. \nWith the emergence of ChatGPT and other artificial intelligence (AI) tools\, questions about the use of AI and its ability to assist – or replace – humans has received renewed interest and attention. Silva Ferretti will present on her experience and experiments with ChatGPT\, and reflect on whether and how we as evaluators can leverage AI in our work. The presentation will be followed by a Q&A session that will focus on the questions participants have about the use of AI in their own work\, as well as what the progress of AI will mean for the field of evaluation going forward. \nNCEN members can join this event free of charge using a code that will be provided via the listserv.
URL:https://ncevaluators.org/event/chatgpt-and-artificial-intelligence-questions-and-implications-for-evaluators/
CATEGORIES:Non-NCEN Event
END:VEVENT
END:VCALENDAR