BEGIN:VCALENDAR
VERSION:2.0
PRODID:-//NCEN - ECPv6.15.17.1//NONSGML v1.0//EN
CALSCALE:GREGORIAN
METHOD:PUBLISH
X-ORIGINAL-URL:https://ncevaluators.org
X-WR-CALDESC:Events for NCEN
REFRESH-INTERVAL;VALUE=DURATION:PT1H
X-Robots-Tag:noindex
X-PUBLISHED-TTL:PT1H
BEGIN:VTIMEZONE
TZID:America/New_York
BEGIN:DAYLIGHT
TZOFFSETFROM:-0500
TZOFFSETTO:-0400
TZNAME:EDT
DTSTART:20210314T070000
END:DAYLIGHT
BEGIN:STANDARD
TZOFFSETFROM:-0400
TZOFFSETTO:-0500
TZNAME:EST
DTSTART:20211107T060000
END:STANDARD
BEGIN:DAYLIGHT
TZOFFSETFROM:-0500
TZOFFSETTO:-0400
TZNAME:EDT
DTSTART:20220313T070000
END:DAYLIGHT
BEGIN:STANDARD
TZOFFSETFROM:-0400
TZOFFSETTO:-0500
TZNAME:EST
DTSTART:20221106T060000
END:STANDARD
BEGIN:DAYLIGHT
TZOFFSETFROM:-0500
TZOFFSETTO:-0400
TZNAME:EDT
DTSTART:20230312T070000
END:DAYLIGHT
BEGIN:STANDARD
TZOFFSETFROM:-0400
TZOFFSETTO:-0500
TZNAME:EST
DTSTART:20231105T060000
END:STANDARD
BEGIN:DAYLIGHT
TZOFFSETFROM:-0500
TZOFFSETTO:-0400
TZNAME:EDT
DTSTART:20240310T070000
END:DAYLIGHT
BEGIN:STANDARD
TZOFFSETFROM:-0400
TZOFFSETTO:-0500
TZNAME:EST
DTSTART:20241103T060000
END:STANDARD
END:VTIMEZONE
BEGIN:VEVENT
DTSTART;TZID=America/New_York:20231106T173000
DTEND;TZID=America/New_York:20231106T193000
DTSTAMP:20260420T053318
CREATED:20231023T221909Z
LAST-MODIFIED:20231023T221909Z
UID:975-1699291800-1699299000@ncevaluators.org
SUMMARY:Triangle Social
DESCRIPTION:Please join us Monday\, November 6\, from 5:30 to 7:30 pm for an in-person social at The Glass Jug Beer Lab – RTP. This is a casual event where you’ll be able to meet and get to know some of the other evaluators in the area\, so please feel free to come and go as you please.
URL:https://ncevaluators.org/event/triangle-social/
LOCATION:The Glass Jug – RTP\, 5410 Hwy 55\, Suite V\, Durham\, NC\, 27713\, United States
CATEGORIES:Social Event
END:VEVENT
BEGIN:VEVENT
DTSTART;TZID=America/New_York:20221111T180000
DTEND;TZID=America/New_York:20221111T200000
DTSTAMP:20260420T053318
CREATED:20221017T201201Z
LAST-MODIFIED:20221029T222633Z
UID:656-1668189600-1668196800@ncevaluators.org
SUMMARY:NCEN gathering at AEA conference
DESCRIPTION:We will have an NCEN social gathering (drinks\, dinner option also) during the AEA Annual Meeting. \n\n\nWhere: Copper Vine\, https://www.coppervine.com\, 1001 Poydras St. \n\n\nWhen: Friday\, Nov. 11\, between 6pm – 8pm (come for some time or all!). We know some TIGs have plans on Thursday\, so we opted for Friday. \n\n\nWhat: You can join for drinks and/or food. The location had options for both. \n\n\nSign up: We would like to have some sense of headcount. If you plan to come\, please write your name and email address at this link. This is on an editable GoogleDoc so you can revisit easily to remember if you had signed up.
URL:https://ncevaluators.org/event/ncen-gathering-at-aea-conference/
CATEGORIES:Social Event
END:VEVENT
BEGIN:VEVENT
DTSTART;TZID=America/New_York:20220929T170000
DTEND;TZID=America/New_York:20220929T183000
DTSTAMP:20260420T053318
CREATED:20220915T145240Z
LAST-MODIFIED:20220922T225105Z
UID:587-1664470800-1664476200@ncevaluators.org
SUMMARY:Happy hour at Boxyard RTP
DESCRIPTION:
URL:https://ncevaluators.org/event/happy-hour/
LOCATION:Boxyard RTP\, 900 Park Offices Dr.\, Research Triangle Park\, NC\, 27709
CATEGORIES:Social Event
END:VEVENT
BEGIN:VEVENT
DTSTART;TZID=America/New_York:20220428T170000
DTEND;TZID=America/New_York:20220428T183000
DTSTAMP:20260420T053318
CREATED:20220627T174207Z
LAST-MODIFIED:20220721T145300Z
UID:437-1651165200-1651170600@ncevaluators.org
SUMMARY:Happy Hour at Boxyard RTP
DESCRIPTION:
URL:https://ncevaluators.org/event/happy-hour-at-boxyard-rtp/
CATEGORIES:Social Event
END:VEVENT
END:VCALENDAR